BEGIN:VCALENDAR
VERSION:2.0
PRODID:-//théâtre du sentier - ECPv6.15.20//NONSGML v1.0//EN
CALSCALE:GREGORIAN
METHOD:PUBLISH
X-ORIGINAL-URL:https://www.theatredusentier.ch
X-WR-CALDESC:Évènements pour théâtre du sentier
REFRESH-INTERVAL;VALUE=DURATION:PT1H
X-Robots-Tag:noindex
X-PUBLISHED-TTL:PT1H
BEGIN:VTIMEZONE
TZID:Europe/Zurich
BEGIN:DAYLIGHT
TZOFFSETFROM:+0100
TZOFFSETTO:+0200
TZNAME:CEST
DTSTART:20210328T010000
END:DAYLIGHT
BEGIN:STANDARD
TZOFFSETFROM:+0200
TZOFFSETTO:+0100
TZNAME:CET
DTSTART:20211031T010000
END:STANDARD
BEGIN:DAYLIGHT
TZOFFSETFROM:+0100
TZOFFSETTO:+0200
TZNAME:CEST
DTSTART:20220327T010000
END:DAYLIGHT
BEGIN:STANDARD
TZOFFSETFROM:+0200
TZOFFSETTO:+0100
TZNAME:CET
DTSTART:20221030T010000
END:STANDARD
BEGIN:DAYLIGHT
TZOFFSETFROM:+0100
TZOFFSETTO:+0200
TZNAME:CEST
DTSTART:20230326T010000
END:DAYLIGHT
BEGIN:STANDARD
TZOFFSETFROM:+0200
TZOFFSETTO:+0100
TZNAME:CET
DTSTART:20231029T010000
END:STANDARD
BEGIN:DAYLIGHT
TZOFFSETFROM:+0100
TZOFFSETTO:+0200
TZNAME:CEST
DTSTART:20240331T010000
END:DAYLIGHT
BEGIN:STANDARD
TZOFFSETFROM:+0200
TZOFFSETTO:+0100
TZNAME:CET
DTSTART:20241027T010000
END:STANDARD
BEGIN:DAYLIGHT
TZOFFSETFROM:+0100
TZOFFSETTO:+0200
TZNAME:CEST
DTSTART:20250330T010000
END:DAYLIGHT
BEGIN:STANDARD
TZOFFSETFROM:+0200
TZOFFSETTO:+0100
TZNAME:CET
DTSTART:20251026T010000
END:STANDARD
BEGIN:DAYLIGHT
TZOFFSETFROM:+0100
TZOFFSETTO:+0200
TZNAME:CEST
DTSTART:20260329T010000
END:DAYLIGHT
BEGIN:STANDARD
TZOFFSETFROM:+0200
TZOFFSETTO:+0100
TZNAME:CET
DTSTART:20261025T010000
END:STANDARD
END:VTIMEZONE
BEGIN:VEVENT
DTSTART;VALUE=DATE:20220918
DTEND;VALUE=DATE:20260101
DTSTAMP:20260420T103439
CREATED:20220715T115904Z
LAST-MODIFIED:20250206T125224Z
UID:4782-1663459200-1767225599@www.theatredusentier.ch
SUMMARY:Les audios
DESCRIPTION:Les lectures audios sont maintenant indexées sur la page audios ! \nNouvelle lecture chaque mercredi et chaque vendredi.
URL:https://www.theatredusentier.ch/lectures/les-audios-2/
CATEGORIES:AILLEURS
ATTACH;FMTTYPE=image/jpeg:https://www.theatredusentier.ch/wp-content/uploads/2022/07/ClaudeThebert-WEB-5798.jpg
END:VEVENT
BEGIN:VEVENT
DTSTART;VALUE=DATE:20250106
DTEND;VALUE=DATE:20251223
DTSTAMP:20260420T103439
CREATED:20220607T214258Z
LAST-MODIFIED:20250206T125426Z
UID:4643-1736121600-1766447999@www.theatredusentier.ch
SUMMARY:Lecture à Saint-Jean — les lundis de la poésie
DESCRIPTION:Claude Thébert continue ses lectures chez Gaspard\, sur les voies de Saint-Jean\, derrière la Bibliothèque.\nCes lectures se font dans l’atelier\, tous les lundis soirs (ou presque!)\, entre 17 et 19h. Bienvenue!
URL:https://www.theatredusentier.ch/lectures/lecture-a-saint-jean-4/
LOCATION:Chez Gaspard\, 21\, av. des Tilleuls\, Genève\, 1204
CATEGORIES:POESIE
ATTACH;FMTTYPE=image/jpeg:https://www.theatredusentier.ch/wp-content/uploads/2021/04/bachegaspard-e1618606971309.jpg
END:VEVENT
BEGIN:VEVENT
DTSTART;TZID=Europe/Zurich:20230603T120000
DTEND;TZID=Europe/Zurich:20230603T130000
DTSTAMP:20260420T103439
CREATED:20230530T073215Z
LAST-MODIFIED:20230530T073215Z
UID:5497-1685793600-1685797200@www.theatredusentier.ch
SUMMARY:Librairie Le Parnasse\, Genève
DESCRIPTION:Lecture de Le compromis  de Sergueï Dovlatov\, traduit du russe par Christine Zeytounian-Beloüs\n\n\n«Le 400 000e habitant de Tallinn vient de naître!» proclame l’article de Sergueï Dovlatov\, mais derrière cet entrefilet faussement enthousiaste\, se cache une histoire absurde et cocasse. L’auteur raconte ainsi les coulisses de douze articles publiés dans des journaux estoniens de langue russe. Ces récits témoignent du bras de fer permanent auquel le journaliste doit se livrer face à la censure soviétique. \nAvec tendresse et son inégalable goût pour l’ironie\, Dovlatov nous emmène derrière la façade idéologique\, dans les tragi-comédies du quotidien. Ceux qui se laissent encore et malgré tout guider par l’amour de la littérature et de la vérité y survivent comme ils peuvent face aux injonctions du Parti. Certains ploient\, d’autres se rebellent\, la plupart s’abîment dans la vodka. \n\n\nÉditions La Baconnière
URL:https://www.theatredusentier.ch/lectures/librairie-le-parnasse-geneve-030623/
LOCATION:Librairie Le Parnasse\, 6\, rue de la Terrassière\, Genève\, 1207
CATEGORIES:PARNASSE
ATTACH;FMTTYPE=image/jpeg:https://www.theatredusentier.ch/wp-content/uploads/2023/05/dovlatov-le-compromis-couverture-web2-e1685431923260.jpg
END:VEVENT
BEGIN:VEVENT
DTSTART;TZID=Europe/Zurich:20230605T170000
DTEND;TZID=Europe/Zurich:20230605T190000
DTSTAMP:20260420T103439
CREATED:20230530T075230Z
LAST-MODIFIED:20230530T075230Z
UID:5509-1685984400-1685991600@www.theatredusentier.ch
SUMMARY:Un différent lundi de la poésie
DESCRIPTION:Dans le cadre des lundis de la poésie\, sur une demande de Marie Baillif\, lecture de textes de l’artiste Lubaina Himid\, tirés du catalogue de la grande exposition consacrée à cette artiste à La Tate Modern de Londres et au MCBA de Lausanne en 2022. \nUne exposition majeure consacrée à l’œuvre lumineuse et puissante de Lubaina Himid présente\, pour la première fois\, un survol du travail de l’artiste britannique.\nFigure influente de l’art contemporain\, de son rôle central dans le mouvement du British Black Art dans les années 1980 jusqu’à l’obtention du prestigieux Turner Prize en 2017\, Lubaina Himid (*1954\, Zanzibar) n’a eu de cesse d’explorer les possibilités de la peinture et d’interroger les récits qu’elle véhicule\, attirant l’attention aussi bien sur des aspects invisibilisés de l’histoire que sur des moments extraordinaires du quotidien. \n 
URL:https://www.theatredusentier.ch/lectures/un-different-lundi-de-la-poesie/
LOCATION:Chez Gaspard\, 21\, av. des Tilleuls\, Genève\, 1204
CATEGORIES:AILLEURS
ATTACH;FMTTYPE=image/jpeg:https://www.theatredusentier.ch/wp-content/uploads/2023/05/lubaina_himid-high_resrt1_smaller_aC2HoZ8.width-1440-e1685433123656.jpg
END:VEVENT
BEGIN:VEVENT
DTSTART;TZID=Europe/Zurich:20230617T120000
DTEND;TZID=Europe/Zurich:20230617T130000
DTSTAMP:20260420T103439
CREATED:20230530T073809Z
LAST-MODIFIED:20230530T073809Z
UID:5500-1687003200-1687006800@www.theatredusentier.ch
SUMMARY:Librairie Le Parnasse\, Genève
DESCRIPTION:Lecture de Chesa Seraina de Fanny Desarzen\n\n\nPrix suisse de littérature 2023 \n«D’abord j’ai été très triste. Et puis c’est parti\, je me suis habituée.  Mais je pense que ça a abîmé ce que j’avais de coeur à ce moment-là.  » \nUne jeune femme se perd dans sa vingtaine. Un jour\, des souvenirs  lui reviennent ; ceux d’une enfance brisée par l’incendie de Chesa  Seraina\, sa maison. Le feu a fait disparaître la mémoire du lieu ; elle décide de reconstruire ce que les flammes ont anéanti. \nÉditions Slatkine
URL:https://www.theatredusentier.ch/lectures/librairie-le-parnasse-geneve-230617/
LOCATION:Librairie Le Parnasse\, 6\, rue de la Terrassière\, Genève\, 1207
CATEGORIES:PARNASSE
ATTACH;FMTTYPE=image/jpeg:https://www.theatredusentier.ch/wp-content/uploads/2023/05/book-07211167-e1685432283734.jpg
END:VEVENT
BEGIN:VEVENT
DTSTART;TZID=Europe/Zurich:20230618T153000
DTEND;TZID=Europe/Zurich:20230618T170000
DTSTAMP:20260420T103439
CREATED:20230530T080447Z
LAST-MODIFIED:20230530T080447Z
UID:5512-1687102200-1687107600@www.theatredusentier.ch
SUMMARY:Théâtre du Jorat\, Mézières
DESCRIPTION:Lecture de Un théâtre à la campagne de René Morax\n\n\nEn prélude au concert Hommage à René Morax avec le chœur Pro Arte et la Sinfonietta de Lausanne\, Claude Thébert lira Un théâtre à la campagne de René Morax.\nUne invitation du Musée Forel à Morges. \nLecture de Claude Thébert\, à 15h30\nConcert\, à 17h \nThéâtre du Jorat à Mézières
URL:https://www.theatredusentier.ch/lectures/theatre-du-jorat-mezieres/
LOCATION:Théâtre du Jorat\, Rue du Théâtre 19\, Mézières\, 1083
CATEGORIES:AILLEURS
ATTACH;FMTTYPE=image/jpeg:https://www.theatredusentier.ch/wp-content/uploads/2023/05/cpal-75e-flyer-concert-theatre-du-jorat-v2-580x832-1-e1685433845739.jpg
END:VEVENT
END:VCALENDAR