BEGIN:VCALENDAR
VERSION:2.0
PRODID:-//théâtre du sentier - ECPv6.15.20//NONSGML v1.0//EN
CALSCALE:GREGORIAN
METHOD:PUBLISH
X-WR-CALNAME:théâtre du sentier
X-ORIGINAL-URL:https://www.theatredusentier.ch
X-WR-CALDESC:Évènements pour théâtre du sentier
REFRESH-INTERVAL;VALUE=DURATION:PT1H
X-Robots-Tag:noindex
X-PUBLISHED-TTL:PT1H
BEGIN:VTIMEZONE
TZID:Europe/Zurich
BEGIN:DAYLIGHT
TZOFFSETFROM:+0100
TZOFFSETTO:+0200
TZNAME:CEST
DTSTART:20220327T010000
END:DAYLIGHT
BEGIN:STANDARD
TZOFFSETFROM:+0200
TZOFFSETTO:+0100
TZNAME:CET
DTSTART:20221030T010000
END:STANDARD
BEGIN:DAYLIGHT
TZOFFSETFROM:+0100
TZOFFSETTO:+0200
TZNAME:CEST
DTSTART:20230326T010000
END:DAYLIGHT
BEGIN:STANDARD
TZOFFSETFROM:+0200
TZOFFSETTO:+0100
TZNAME:CET
DTSTART:20231029T010000
END:STANDARD
BEGIN:DAYLIGHT
TZOFFSETFROM:+0100
TZOFFSETTO:+0200
TZNAME:CEST
DTSTART:20240331T010000
END:DAYLIGHT
BEGIN:STANDARD
TZOFFSETFROM:+0200
TZOFFSETTO:+0100
TZNAME:CET
DTSTART:20241027T010000
END:STANDARD
END:VTIMEZONE
BEGIN:VEVENT
DTSTART;TZID=Europe/Zurich:20231128T200000
DTEND;TZID=Europe/Zurich:20231210T190000
DTSTAMP:20260425T175017
CREATED:20231031T073320Z
LAST-MODIFIED:20231031T073535Z
UID:5685-1701201600-1702234800@www.theatredusentier.ch
SUMMARY:Théâtre du Grütli\, Genève
DESCRIPTION:S’enraciner dans les ruines\nUn spectacle de Dorothée Thébert & Filippo Filliger \nAux origines de ce projet\, Dorothée Thébert et Filippo Filliger ont travaillé sur la Déclaration universelle des droits humains. Comme pour interagir avec ce texte\, elles l’ont écrit sur les trottoirs de la ville. Ce geste simple a provoqué des rencontres avec les passantes\, chargées de questionnements quant à l’action politique\, de craintes quant à la dégradation de nos conditions de vie sur Terre. \nGrâce à un détour dans un jardin\, grâce à un temps suspendu\, le duo a poursuivi sa réflexion entre droits humains et rapport à la nature\, deux univers étroitement liés et interdépendants. Si cette relation au vivant est en ruine aujourd’hui\, il en va de même pour les relations à l’échelle humaine\, qui sont elles aussi fragilisées par le capitalisme. Ainsi\, Dorothée et Filippo invitent les spectatrices dans leur jardin alchimique le temps d’une expérience à la fois sensible et réflexive. Un espace de joyeuse résistance\, pour affirmer l’importance de soigner les liens que nous partageons toutes. \nMA/JE/SA 20h — ME/VE 19h — DI 18h \nUn projet de : Dorothée Thébert & Filippo Filliger\nAvec : Filippo Filliger\, Olga Kokcharova\, Ursina Ramondetto\, Grégory Stauffer\, Claude Thébert\, Dorothée Thébert\nScénographie : Giona Bierens de Haan\nComposition musicale : Olga Kokcharova\nCréation lumière : Hugo Cahn\nCréation costumes : Ella Asderban\nMoulages : Lucas Cantori\nConstruction de la scénographie : Les ateliers de décors de théâtre de la Ville de Genève\nAdministration : Pâquis Production / Laure Chapel \n 
URL:https://www.theatredusentier.ch/lectures/theatre-du-grutli-geneve/
LOCATION:Théâtre du Grütli\, Rue du Général-Dufour 16\, Genève\, 1204\, Suisse
CATEGORIES:GRUTLI
ATTACH;FMTTYPE=image/jpeg:https://www.theatredusentier.ch/wp-content/uploads/2023/10/senraciner-dans-les-ruines-9-scaled-2-e1698737729924.jpg
END:VEVENT
END:VCALENDAR